BEGIN:VCALENDAR
VERSION:2.0
PRODID:-//eventon.com NONSGML v1.0//EN
BEGIN:VEVENT
UID:69e73c131aca7
DTSTAMP:20260421T085755
DTSTART:20250705T120000Z
DTEND:20250705T180000Z
TZID:Europe/Amsterdam
LOCATION:Podium DE FLUX Hemkade 48
SUMMARY:Familiedag/ jongeren viering
DESCRIPTION: Familie Keti Koti Viering voor alle Zaankanters Comité 30 juni/1 juli Zaanstreek viert 5 jaar vrijheid! Zaterdag 5 juli 202514.00 – 20.00 uurPodium Flux – Hemkade 48\,  1506 PS Zaandam Vier de vrijheid samen met ons!Een feestelijke en betekenisvolle middag met muziek\,  dans\,  workshops en heerlijk eten – voor jong[..]\nhttps://ketikoti-zaanstreek.nl/events/familiedag-jongeren-viering/
URL:https://ketikoti-zaanstreek.nl/events/familiedag-jongeren-viering/
END:VEVENT
END:VCALENDAR